BEGIN:VCALENDAR
VERSION:2.0
PRODID:-// - ECPv6.0.8//NONSGML v1.0//EN
CALSCALE:GREGORIAN
METHOD:PUBLISH
X-ORIGINAL-URL:https://unbgsa.ca
X-WR-CALDESC:Events for 
REFRESH-INTERVAL;VALUE=DURATION:PT1H
X-Robots-Tag:noindex
X-PUBLISHED-TTL:PT1H
BEGIN:VTIMEZONE
TZID:UTC
BEGIN:STANDARD
TZOFFSETFROM:+0000
TZOFFSETTO:+0000
TZNAME:UTC
DTSTART:20240101T000000
END:STANDARD
END:VTIMEZONE
BEGIN:VEVENT
DTSTART;TZID=UTC:20240324T080000
DTEND;TZID=UTC:20240325T190000
DTSTAMP:20260424T162927
CREATED:20240304T005422Z
LAST-MODIFIED:20240304T010208Z
UID:2532-1711267200-1711393200@unbgsa.ca
SUMMARY:30th ANNUAL GRADUATE RESEARCH CONFERENCE 2024
DESCRIPTION:
URL:https://unbgsa.ca/events/30th-annual-graduate-research-conference-2024/
END:VEVENT
END:VCALENDAR