BEGIN:VCALENDAR
VERSION:2.0
PRODID:-// - ECPv6.0.8//NONSGML v1.0//EN
CALSCALE:GREGORIAN
METHOD:PUBLISH
X-ORIGINAL-URL:https://unbgsa.ca
X-WR-CALDESC:Events for 
REFRESH-INTERVAL;VALUE=DURATION:PT1H
X-Robots-Tag:noindex
X-PUBLISHED-TTL:PT1H
BEGIN:VTIMEZONE
TZID:UTC
BEGIN:STANDARD
TZOFFSETFROM:+0000
TZOFFSETTO:+0000
TZNAME:UTC
DTSTART:20190101T000000
END:STANDARD
END:VTIMEZONE
BEGIN:VEVENT
DTSTART;TZID=UTC:20240816T160000
DTEND;TZID=UTC:20240816T180000
DTSTAMP:20260420T000026
CREATED:20240721T144421Z
LAST-MODIFIED:20240721T144925Z
UID:2595-1723824000-1723831200@unbgsa.ca
SUMMARY:Workforce & Newcomer Summit
DESCRIPTION:Dear student\,  \nAre you ready to expand your network and learn more about joining the workforce in the Capital Region?  \nThis August 16th\, attend the Workforce & Newcomer Summit and Diversity Gala Night for a day full of learning and a night full of flavor! The conference will be from 9:00am to 4:00pm and the gala from 6:00pm to 10:00pm at the Fredericton Convention Centre.  \nThe Summit will bring together government officials and key stakeholders to discuss vital actions supporting newcomer success and workforce integration\, fostering economic growth in our region. Attend concurrent sessions to gain new skills!  \nAt night\, you can dress to impress in your cultural attire\, enjoy a paid bar and plated dinner while listening to success stories of newcomers like yourself! Cultural performances will also be part of the event to dance the night away.  \nJust for you… We are offering a 50% discount to attend the event! Reach out to chiamaka@myignite.ca for your special code and tell us if you want to attend the conference or the gala\, or both!  \nRegister here and do not miss out on this opportunity! 
URL:https://unbgsa.ca/events/2595/
END:VEVENT
BEGIN:VEVENT
DTSTART;TZID=UTC:20240802T140000
DTEND;TZID=UTC:20240802T170000
DTSTAMP:20260420T000026
CREATED:20240721T143852Z
LAST-MODIFIED:20240721T143852Z
UID:2591-1722607200-1722618000@unbgsa.ca
SUMMARY:Emancipation Day Celebration
DESCRIPTION:THE UNB GSA IN ASSOCIATION WITH THE CANADIAN FEDERATION OF STUDENTS INVITES YOU TO THEIR EMANCIPATION DAY COMMEMORATION BARBECUE AND THE OFFICIAL LAUNCH OF THE GSA’S BLACK CAUCUS ON AUGUST 2ND \, 2024 FROM 2.00- 5 .00 PM AT THE GRAD HOUSE.
URL:https://unbgsa.ca/events/emancipation-day-celebration/
CATEGORIES:Upcoming Events
END:VEVENT
BEGIN:VEVENT
DTSTART;TZID=UTC:20240618T170000
DTEND;TZID=UTC:20240618T200000
DTSTAMP:20260420T000026
CREATED:20240612T235935Z
LAST-MODIFIED:20240613T002707Z
UID:2558-1718730000-1718740800@unbgsa.ca
SUMMARY:Anti-Racism Panel Discussion on June 18!
DESCRIPTION:Upcoming Event \nAnti-Racism Panel Discussion on June 18 at the Centre Communautaire Sainte-Anne\, featuring key speakers Nisa Kennedy\, Daniel Chippin\, Juan Diego Rivas\, Phillip Lunga\, and Govinda Saha. \nJoin them from 5:00-8:00 PM for a crucial dialogue on embracing diversity and confronting racism.
URL:https://unbgsa.ca/events/upcoming-event-alert-anti-racism-panel-discussion-on-june-18/
END:VEVENT
BEGIN:VEVENT
DTSTART;TZID=UTC:20240324T080000
DTEND;TZID=UTC:20240325T190000
DTSTAMP:20260420T000026
CREATED:20240304T005422Z
LAST-MODIFIED:20240304T010208Z
UID:2532-1711267200-1711393200@unbgsa.ca
SUMMARY:30th ANNUAL GRADUATE RESEARCH CONFERENCE 2024
DESCRIPTION:
URL:https://unbgsa.ca/events/30th-annual-graduate-research-conference-2024/
END:VEVENT
BEGIN:VEVENT
DTSTART;VALUE=DATE:20190821
DTEND;VALUE=DATE:20191001
DTSTAMP:20260420T000026
CREATED:20190618T122909Z
LAST-MODIFIED:20190715T114956Z
UID:1811-1566345600-1569887999@unbgsa.ca
SUMMARY:UNB Board of Governors Meeting
DESCRIPTION:UNB Board of Governors Meeting 2019
URL:https://unbgsa.ca/events/unb-board-of-governors-meeting/
LOCATION:New York City Center\, NY\, United States
CATEGORIES:GSA Meeting
END:VEVENT
BEGIN:VEVENT
DTSTART;VALUE=DATE:20190716
DTEND;VALUE=DATE:20190727
DTSTAMP:20260420T000026
CREATED:20190618T103823Z
LAST-MODIFIED:20190715T115619Z
UID:1736-1563235200-1564185599@unbgsa.ca
SUMMARY:GSA Council Meeting Center
DESCRIPTION:GSA Council Meeting
URL:https://unbgsa.ca/events/gsa-council-meeting-june-12-2019/
LOCATION:New York City Center\, NY\, United States
CATEGORIES:GSA Meeting
END:VEVENT
BEGIN:VEVENT
DTSTART;TZID=UTC:20190715T080000
DTEND;TZID=UTC:20190715T170000
DTSTAMP:20260420T000026
CREATED:20190715T114129Z
LAST-MODIFIED:20190715T115949Z
UID:2084-1563177600-1563210000@unbgsa.ca
SUMMARY:UNB Fredericton Spring Encania
DESCRIPTION:UNB Fredericton Spring Encania
URL:https://unbgsa.ca/events/test/
CATEGORIES:GSA Meeting
END:VEVENT
END:VCALENDAR